BEGIN:VCALENDAR
VERSION:2.0
PRODID:icalendar-ruby
CALSCALE:GREGORIAN
METHOD:PUBLISH
BEGIN:VEVENT
DTSTAMP:20260422T120352Z
UID:12-684183@hillsidecc.ca
DTSTART:20260922T223000Z
DTEND:20260923T003000Z
CLASS:PUBLIC
CREATED:20260422T045556
DESCRIPTION:Reaching kids from age 3 through grade 7 with the gospel\, and 
 engaging them in long-term discipleship. Helping kids belong to a loving c
 ommunity\, believe God’s word\, and become followers of Jesus.
LAST-MODIFIED:20260422T045556
LOCATION:550 Exeter Truck Route
SUMMARY:Awana Kids Club
URL;VALUE=URI:https://hillsidecc.ca/events/awana-kids-club/2026-09-22
ATTACH;FILENAME=awana logo.png;FMTTYPE=image/png:https://dq5pwpg1q8ru0.clou
 dfront.net/2023/09/12/14/01/51/5429c01e-5eb1-4484-ad83-591f9dc63042/awana%
 20logo.png
END:VEVENT
END:VCALENDAR
