BEGIN:VCALENDAR
VERSION:2.0
PRODID:icalendar-ruby
CALSCALE:GREGORIAN
METHOD:PUBLISH
BEGIN:VEVENT
DTSTAMP:20260422T214855Z
UID:13-685758@hillsidecc.ca
DTSTART:20260926T020000Z
DTEND:20260926T040000Z
CLASS:PUBLIC
CREATED:20260422T134110
DESCRIPTION:If you are youth age\, come out and join us for a great time of
  getting to know God and each other better!
LAST-MODIFIED:20260422T134110
LOCATION:550 Exeter Truck Route
SUMMARY:Youth
URL;VALUE=URI:https://hillsidecc.ca/events/youth/2026-09-25
ATTACH;FILENAME=4.jpg;FMTTYPE=image/jpeg:https://dq5pwpg1q8ru0.cloudfront.n
 et/2025/08/15/17/30/00/cf5ffb6c-71fc-4b17-b385-60c7f877aa94/4.jpg
END:VEVENT
END:VCALENDAR
